BEGIN:VCALENDAR
VERSION:2.0
PRODID:-//H/F Klausdalsbro - ECPv6.6.0.2//NONSGML v1.0//EN
CALSCALE:GREGORIAN
METHOD:PUBLISH
X-WR-CALNAME:H/F Klausdalsbro
X-ORIGINAL-URL:https://www.hfklausdalsbro.dk
X-WR-CALDESC:Begivenheder for H/F Klausdalsbro
REFRESH-INTERVAL;VALUE=DURATION:PT1H
X-Robots-Tag:noindex
X-PUBLISHED-TTL:PT1H
BEGIN:VTIMEZONE
TZID:Europe/Paris
BEGIN:DAYLIGHT
TZOFFSETFROM:+0100
TZOFFSETTO:+0200
TZNAME:CEST
DTSTART:20260329T010000
END:DAYLIGHT
BEGIN:STANDARD
TZOFFSETFROM:+0200
TZOFFSETTO:+0100
TZNAME:CET
DTSTART:20261025T010000
END:STANDARD
END:VTIMEZONE
BEGIN:VEVENT
DTSTART;TZID=Europe/Paris:20260411T130000
DTEND;TZID=Europe/Paris:20260411T150000
DTSTAMP:20260422T155201
CREATED:20260324T202638Z
LAST-MODIFIED:20260324T203002Z
UID:1561-1775912400-1775919600@www.hfklausdalsbro.dk
SUMMARY:Generalforsamling 2026
DESCRIPTION:Indkaldelse til generalforsamling 2026\nDato: Lørdag d. 11. april 2026 kl. 13.00 – dørene åbnes kl. 12.00\nSted: Herlev Medborgerhus – Herlevgårdsvej 18Dagsorden:\n1. Valg af dirigent\n2. Valg af stemmeudvalg\n3. Bestyrelsens beretning\n4. Årsregnskab\n5. Indkomne forslag:\n– Havemand til fællesområder – 65.000 kr. (Bestyrelsen)\n– Forslag til ændring om\, at vi kun udsender dokumenter på e-mail fremadrettet (Bestyrelsen)\n– Forslag om at havelejen fremadrettet opkræves via PBS (Bestyrelsen)\n– Pladsudvalg til forskønnelse af fællesområder – 40.000 kr. (Have 177)\n– Reglen om begrænsning på 4 meters højde på træer og beplantning sløjfes – forslag om\, at\nbestyrelsen undersøger\, hvor reglen stammer fra. (Have 177)\n– Opsætning af øl-automat i Traktorgården (Have 123\, Have 32\, Have 2\, Have 112)\n– Fælleshuset skal nemt og vederlagsfrit kunne benyttes til forskellige fælles sociale aktiviteter (Have 205\, Have 132\, Have 162\, Have 33\, Have 90 og Have 57)\n6. Godkendelse af budget\, herunder fastsættelse af leje\n7. Valg af formand for 2 år: Yvette genopstiller\, have 109\n8. Valg af 2 medlemmer for 2 år: Emil\, have 80 (genopstiller) og Peter\, have 178 (genopstiller). Valg af et bestyrelsesmedlem for 1 år.\n9. Valg af 2 suppleanter for 1 år\n10. Valg af 2 interne revisorer for 2 år\n11. Valg af 2 revisorsuppleanter for 1 år\n12. Valg af medlemmer til:\nFestudvalg\, ukrudtsuglerne\, kloakeringsudvalg\, børneudvalg\, husudvalg\, vurderingsudvalg og flagmand.\n13. Evt.
URL:https://www.hfklausdalsbro.dk/event/generalforsamling-2026/
LOCATION:Herlev Medborgerhus\, Herlevgårdsvej 18\, Herlev\, 2730\, Denmark
END:VEVENT
END:VCALENDAR